BEGIN:VCALENDAR
VERSION:2.0
PRODID:-//Clean Off-Road Equipment Voucher Incentive Project - ECPv6.15.20//NONSGML v1.0//EN
CALSCALE:GREGORIAN
METHOD:PUBLISH
X-WR-CALNAME:Clean Off-Road Equipment Voucher Incentive Project
X-ORIGINAL-URL:https://californiacore.org
X-WR-CALDESC:Events for Clean Off-Road Equipment Voucher Incentive Project
REFRESH-INTERVAL;VALUE=DURATION:PT1H
X-Robots-Tag:noindex
X-PUBLISHED-TTL:PT1H
BEGIN:VTIMEZONE
TZID:America/Los_Angeles
BEGIN:DAYLIGHT
TZOFFSETFROM:-0800
TZOFFSETTO:-0700
TZNAME:PDT
DTSTART:20220313T100000
END:DAYLIGHT
BEGIN:STANDARD
TZOFFSETFROM:-0700
TZOFFSETTO:-0800
TZNAME:PST
DTSTART:20221106T090000
END:STANDARD
BEGIN:DAYLIGHT
TZOFFSETFROM:-0800
TZOFFSETTO:-0700
TZNAME:PDT
DTSTART:20230312T100000
END:DAYLIGHT
BEGIN:STANDARD
TZOFFSETFROM:-0700
TZOFFSETTO:-0800
TZNAME:PST
DTSTART:20231105T090000
END:STANDARD
BEGIN:DAYLIGHT
TZOFFSETFROM:-0800
TZOFFSETTO:-0700
TZNAME:PDT
DTSTART:20240310T100000
END:DAYLIGHT
BEGIN:STANDARD
TZOFFSETFROM:-0700
TZOFFSETTO:-0800
TZNAME:PST
DTSTART:20241103T090000
END:STANDARD
BEGIN:DAYLIGHT
TZOFFSETFROM:-0800
TZOFFSETTO:-0700
TZNAME:PDT
DTSTART:20250309T100000
END:DAYLIGHT
BEGIN:STANDARD
TZOFFSETFROM:-0700
TZOFFSETTO:-0800
TZNAME:PST
DTSTART:20251102T090000
END:STANDARD
END:VTIMEZONE
BEGIN:VEVENT
DTSTART;TZID=America/Los_Angeles:20231129T090000
DTEND;TZID=America/Los_Angeles:20241201T140000
DTSTAMP:20260422T084855
CREATED:20241209T194129Z
LAST-MODIFIED:20241213T221147Z
UID:12251-1701248400-1733061600@californiacore.org
SUMMARY:43rd International WorkBoat Show 
DESCRIPTION:The 43rd International WorkBoat Show will feature hundreds of exhibitors showcasing thousands of products and services to over 12\,000 attendees. The event will include the highly anticipated WorkBoat Conference Program\, available at no additional cost to attendees and exhibitors. On the first day\, the 2023 Boat of the Year will be announced\, and conference sessions will cover key industry topics\, including “Inland Waterways Infrastructure Update” and “The Design and Construction of the First Electric Tug.” The Annual Offshore Wind Breakfast on Thursday\, Nov. 30\, will kick off a full day of sessions\, with discussions on alternative fuels\, sustainability in shipyards\, and more. Friday will focus on “Government Maritime Acquisition Day\,” featuring sessions from the Navy\, Coast Guard\, and Army. The show will be open from 9 a.m. to 5 p.m. on Nov. 29-30\, and from 10 a.m. to 2 p.m. on Dec. 1. For more information\, visit www.workboatshow.com or contact (800) 454-3007 or customerservice@divcom.com. \nREGISTER HERE
URL:https://californiacore.org/event/43rd-international-workboat-show/
LOCATION:Morial Convention Center\, 900 Convention Center Blvd\, New Orleans\, LA\, 70130\, United States
CATEGORIES:Core,CARB,Outreach and Engagement,Informational Booth,CALSTART,Showcase,Equipment Showcase,Resource Fair,Educational Seminar
ATTACH;FMTTYPE=image/jpeg:https://californiacore.org/wp-content/uploads/2024/12/WorkBoat.jpg
ORGANIZER;CN="International WorkBoat Show":MAILTO:customerservice@divcom.com
END:VEVENT
BEGIN:VEVENT
DTSTART;TZID=America/Los_Angeles:20241212T100000
DTEND;TZID=America/Los_Angeles:20241212T140000
DTSTAMP:20260422T084855
CREATED:20241211T212510Z
LAST-MODIFIED:20241213T214533Z
UID:12314-1733997600-1734012000@californiacore.org
SUMMARY:Small Farm Tech Expo
DESCRIPTION:Join us for the 4th Small Farm Tech Expo\, where innovative technology meets the unique needs of small-scale agriculture. Whether you’re cultivating 20 acres of row crops or managing a quarter-acre market garden\, this event offers a chance to explore practical and affordable Ag technology designed to improve efficiency\, reduce labor\, and help farmers better connect with their customers. The Expo will feature live demonstrations from 15+ companies showcasing tools and technologies specifically for small farms\, along with interactive workshops\, refreshments\, lunch\, and Spanish interpretation. Don’t miss this opportunity to discover how technology can enhance your farming operations and grow your business. \nREGISTER HERE
URL:https://californiacore.org/event/small-farm-tech-expo/
LOCATION:Kingsburg Historical Park\, 2321 Sierra St\, Kingsburg\, CA\, 93631\, United States
CATEGORIES:Core,CARB,Landscaping,heavy-Duty,Demonstration,Outreach and Engagement,Informational Booth,CALSTART,Showcase,Equipment Showcase,Resource Fair,Agriculture
ATTACH;FMTTYPE=image/webp:https://californiacore.org/wp-content/uploads/2024/12/Small-Farm-Tech-Expo.webp
ORGANIZER;CN="CAFF (Community Alliance with Family Farmers)":MAILTO:maria@caff.org
END:VEVENT
END:VCALENDAR