BEGIN:VCALENDAR
VERSION:2.0
PRODID:-//Clean Off-Road Equipment Voucher Incentive Project - ECPv6.15.20//NONSGML v1.0//EN
CALSCALE:GREGORIAN
METHOD:PUBLISH
X-ORIGINAL-URL:https://californiacore.org
X-WR-CALDESC:Events for Clean Off-Road Equipment Voucher Incentive Project
REFRESH-INTERVAL;VALUE=DURATION:PT1H
X-Robots-Tag:noindex
X-PUBLISHED-TTL:PT1H
BEGIN:VTIMEZONE
TZID:America/Los_Angeles
BEGIN:DAYLIGHT
TZOFFSETFROM:-0800
TZOFFSETTO:-0700
TZNAME:PDT
DTSTART:20200308T100000
END:DAYLIGHT
BEGIN:STANDARD
TZOFFSETFROM:-0700
TZOFFSETTO:-0800
TZNAME:PST
DTSTART:20201101T090000
END:STANDARD
BEGIN:DAYLIGHT
TZOFFSETFROM:-0800
TZOFFSETTO:-0700
TZNAME:PDT
DTSTART:20210314T100000
END:DAYLIGHT
BEGIN:STANDARD
TZOFFSETFROM:-0700
TZOFFSETTO:-0800
TZNAME:PST
DTSTART:20211107T090000
END:STANDARD
BEGIN:DAYLIGHT
TZOFFSETFROM:-0800
TZOFFSETTO:-0700
TZNAME:PDT
DTSTART:20220313T100000
END:DAYLIGHT
BEGIN:STANDARD
TZOFFSETFROM:-0700
TZOFFSETTO:-0800
TZNAME:PST
DTSTART:20221106T090000
END:STANDARD
END:VTIMEZONE
BEGIN:VEVENT
DTSTART;TZID=America/Los_Angeles:20210524T150000
DTEND;TZID=America/Los_Angeles:20210524T170000
DTSTAMP:20260424T143530
CREATED:20210518T221413Z
LAST-MODIFIED:20220526T204935Z
UID:5957-1621868400-1621875600@californiacore.org
SUMMARY:Port of Long Beach Workforce Development & Education Workshop Series
DESCRIPTION:The Port of Long Beach in partnership with Long Beach Community College and the Academy of Global Logistics program with Long Beach Unified School District invite you to participate in a series of virtual workshops showcasing the zero-emission technology workforce assessment and program development. Together\, these programs pave the way in training the next generation for work in the goods movement sector as it transitions to zero emissions. \nDate: Monday\, May 24\, 2021 \nTime: 3-5:00pm PDT \nRegister Today: https://bit.ly/3hs68k9
URL:https://californiacore.org/event/port-of-long-beach-workforce-development-education-workshop-series/
LOCATION:Zoom
CATEGORIES:Port of Long Beach
ATTACH;FMTTYPE=image/jpeg:https://californiacore.org/wp-content/uploads/2021/05/PortofLongBeach-virtual-workshops-e1621383852390.jpg
END:VEVENT
END:VCALENDAR