BEGIN:VCALENDAR
VERSION:2.0
PRODID:-//Clean Off-Road Equipment Voucher Incentive Project - ECPv6.15.20//NONSGML v1.0//EN
CALSCALE:GREGORIAN
METHOD:PUBLISH
X-WR-CALNAME:Clean Off-Road Equipment Voucher Incentive Project
X-ORIGINAL-URL:https://californiacore.org
X-WR-CALDESC:Events for Clean Off-Road Equipment Voucher Incentive Project
REFRESH-INTERVAL;VALUE=DURATION:PT1H
X-Robots-Tag:noindex
X-PUBLISHED-TTL:PT1H
BEGIN:VTIMEZONE
TZID:America/Los_Angeles
BEGIN:DAYLIGHT
TZOFFSETFROM:-0800
TZOFFSETTO:-0700
TZNAME:PDT
DTSTART:20220313T100000
END:DAYLIGHT
BEGIN:STANDARD
TZOFFSETFROM:-0700
TZOFFSETTO:-0800
TZNAME:PST
DTSTART:20221106T090000
END:STANDARD
BEGIN:DAYLIGHT
TZOFFSETFROM:-0800
TZOFFSETTO:-0700
TZNAME:PDT
DTSTART:20230312T100000
END:DAYLIGHT
BEGIN:STANDARD
TZOFFSETFROM:-0700
TZOFFSETTO:-0800
TZNAME:PST
DTSTART:20231105T090000
END:STANDARD
BEGIN:DAYLIGHT
TZOFFSETFROM:-0800
TZOFFSETTO:-0700
TZNAME:PDT
DTSTART:20240310T100000
END:DAYLIGHT
BEGIN:STANDARD
TZOFFSETFROM:-0700
TZOFFSETTO:-0800
TZNAME:PST
DTSTART:20241103T090000
END:STANDARD
BEGIN:DAYLIGHT
TZOFFSETFROM:-0800
TZOFFSETTO:-0700
TZNAME:PDT
DTSTART:20250309T100000
END:DAYLIGHT
BEGIN:STANDARD
TZOFFSETFROM:-0700
TZOFFSETTO:-0800
TZNAME:PST
DTSTART:20251102T090000
END:STANDARD
BEGIN:DAYLIGHT
TZOFFSETFROM:-0800
TZOFFSETTO:-0700
TZNAME:PDT
DTSTART:20260308T100000
END:DAYLIGHT
BEGIN:STANDARD
TZOFFSETFROM:-0700
TZOFFSETTO:-0800
TZNAME:PST
DTSTART:20261101T090000
END:STANDARD
END:VTIMEZONE
BEGIN:VEVENT
DTSTART;TZID=America/Los_Angeles:20250211T080000
DTEND;TZID=America/Los_Angeles:20250213T170000
DTSTAMP:20260424T095737
CREATED:20240912T215520Z
LAST-MODIFIED:20240918T132519Z
UID:11433-1739260800-1739466000@californiacore.org
SUMMARY:2025 World Ag Expo
DESCRIPTION:The International Agri-Center® is home to World Ag Expo®\, the largest annual agricultural show of its kind. Taking place in Tulare\, California\, in 2025\, World Ag Expo® offers a premier platform for networking\, education\, and business in one of the most productive agricultural regions in the U.S. With over 1\,200 exhibitors showcasing cutting-edge technology and equipment across 2.6 million square feet of exhibit space\, the event attracts approximately 100\,000 attendees from over 70 countries each year. \nRegistration opens October 1\, 2024—secure your tickets now! \nREGISTER NOW
URL:https://californiacore.org/event/2025-world-ag-expo/
LOCATION:2025 World Ag Expo\, 4500 S Laspina St\, Tulare\, CA\, 93274\, United States
CATEGORIES:Core,CARB,heavy-Duty,Demonstration,Outreach and Engagement,Seminar,Informational Booth,CALSTART,HVIP,Showcase,Equipment Showcase,Resource Fair,Agriculture
ATTACH;FMTTYPE=image/jpeg:https://californiacore.org/wp-content/uploads/2024/09/WorldAgExpo2025.jpg
ORGANIZER;CN="World Ag Expo":MAILTO:info@farmshow.org
END:VEVENT
BEGIN:VEVENT
DTSTART;TZID=America/Los_Angeles:20241107T090000
DTEND;TZID=America/Los_Angeles:20241107T140000
DTSTAMP:20260424T095737
CREATED:20241030T184524Z
LAST-MODIFIED:20241030T210624Z
UID:11826-1730970000-1730988000@californiacore.org
SUMMARY:ZEV Ag and Fleet Summit
DESCRIPTION:Project Clean Air presents the 2024 ZEV Ag & Fleet Summit on Thursday\, November 7\, 2024\, at Minter Field Airport District in Shafter\, CA. This event is designed to assist with planning and transitioning to clean transportation options\, featuring test drives\, an expo\, and conference sessions focused on ag electrification\, electric and hydrogen vehicles\, off-grid EV charging solutions\, infrastructure\, energy solutions\, HVIP/CORE incentives\, CARB ACF regulations\, and workforce development. \nFor inquiries\, please contact info@zevtour.com. \nREGISTER NOW
URL:https://californiacore.org/event/zev-ag-and-fleet-summit/
LOCATION:Minter Field Airport District\, 201 Aviation Street\, Shafter\, CA\, 93263\, United States
CATEGORIES:Core,CARB,heavy-Duty,Outreach and Engagement,Seminar,Informational Booth,CALSTART,HVIP,Showcase,Resource Fair,Agriculture
ATTACH;FMTTYPE=image/png:https://californiacore.org/wp-content/uploads/2024/10/Ag-Summit.png
ORGANIZER;CN="ZEV Tour":MAILTO:info@zevtour.com
END:VEVENT
BEGIN:VEVENT
DTSTART;TZID=America/Los_Angeles:20240122T174000
DTEND;TZID=America/Los_Angeles:20240125T193000
DTSTAMP:20260424T095737
CREATED:20241210T010227Z
LAST-MODIFIED:20241213T221327Z
UID:12260-1705945200-1706211000@californiacore.org
SUMMARY:AAPA Powers Summit & Expo 2024
DESCRIPTION:Join AAPA (American Association of Port Authorities) in Tampa\, Florida\, for the POWERS Summit & Expo\, taking place January 22-25\, 2024. This event will bring together industry leaders and professionals from around the world to explore the intersection of energy\, resilience\, and sustainability in the port industry. Attendees will have ample networking opportunities\, including lunches\, receptions\, and a golf day in beautiful Tampa to support a noble cause. Powered by AAPA’s Environment Committee\, the summit will also feature a committee meeting to discuss future environmental initiatives. Agenda highlights include Dr. Lee Kindberg of Maersk\, Ann Phillips from the U.S. Maritime Administration\, and a Spotlight on National Labs Workshop with representatives from the U.S. Department of Energy. \nREGISTER HERE\n \n 
URL:https://californiacore.org/event/aapa-powers-summit-expo/
LOCATION:Tampa Marriott Water Street\, 505 Water Street\, Tampa\, FL\, 33602\, United States
CATEGORIES:Core,CARB,heavy-Duty,Outreach and Engagement,Seminar,Informational Booth,CALSTART,Equipment Showcase,Resource Fair,Educational Seminar
ATTACH;FMTTYPE=image/webp:https://californiacore.org/wp-content/uploads/2024/12/PowersSummit_420x300.webp
ORGANIZER;CN="AAPA (American Association of Port Authorities)":MAILTO:info@aapa-ports.org
END:VEVENT
BEGIN:VEVENT
DTSTART;TZID=America/Los_Angeles:20231020T110000
DTEND;TZID=America/Los_Angeles:20231020T120000
DTSTAMP:20260424T095737
CREATED:20230926T212526Z
LAST-MODIFIED:20231012T103827Z
UID:8577-1697799600-1697803200@californiacore.org
SUMMARY:CORE Advocates Learning Symposium: Purchasing and Leasing Clean Construction Equipment
DESCRIPTION:CORE Project Administrators are hosting a series of learning sessions featuring panelists covering various subjects in the zero-emissions off-road industry. These learning sessions are intended to provide industry insights and testimonials about operating CORE-funded equipment\, and other topics covering an array of zero-emission off-road technology. Our first symposium will bring together clean construction equipment users and industry experts who will discuss the benefits and challenges of adopting zero-emission equipment\, including purchasing and leasing options. \nRegister Now
URL:https://californiacore.org/event/core-advocates-learning-symposium-purchasing-and-leasing-clean-construction-equipment/
LOCATION:Zoom
CATEGORIES:Core,heavy-Duty,Webinar,Seminar
ATTACH;FMTTYPE=image/png:https://californiacore.org/wp-content/uploads/2023/09/CORE-Advocates-Email-Header.png
ORGANIZER;CN="CORE":MAILTO:info@californiaCORE.org
END:VEVENT
BEGIN:VEVENT
DTSTART;VALUE=DATE:20230920
DTEND;VALUE=DATE:20230922
DTSTAMP:20260424T095737
CREATED:20230822T005304Z
LAST-MODIFIED:20230822T013610Z
UID:8489-1695168000-1695340799@californiacore.org
SUMMARY:2023 Anaheim Landscape Expo
DESCRIPTION:The Landscape Expo is a regional trade show and educational conference for landscape professionals from all facets of the industry. The event will take place at the Anaheim Convention Center and feature electric equipment and product demonstrations\, seminars\, and various exhibitors. Stop by the CORE booth (#680) and tune into the Zero-Emission Landscaping Equipment seminar on Thursday\, September 21 from 8 – 9 am to learn more about the benefits of zero-emission landscaping equipment\, how to apply for voucher incentives\, and to get updates on state regulations.   \nLearn More
URL:https://californiacore.org/event/2023-anaheim-landscape-expo/
LOCATION:FL
CATEGORIES:Landscaping,Outreach and Engagement,Seminar,Informational Booth
ATTACH;FMTTYPE=image/png:https://californiacore.org/wp-content/uploads/2023/08/Anaheim-Landscape-Expo-Image.png
END:VEVENT
END:VCALENDAR